BEGIN:VCALENDAR
VERSION:2.0
PRODID:icalendar-ruby
CALSCALE:GREGORIAN
BEGIN:VEVENT
DTSTAMP:20260421T114319Z
UID:31d59632-520e-4625-8a31-eede8efeae4a
DTSTART;VALUE=DATE:20260507
DESCRIPTION:Property ID# 606532\, Time: 4:00PM
SUMMARY:Auction for 8/7 The Promenade
END:VEVENT
END:VCALENDAR
