BEGIN:VCALENDAR
VERSION:2.0
PRODID:icalendar-ruby
CALSCALE:GREGORIAN
BEGIN:VEVENT
DTSTAMP:20260423T115229Z
UID:c00d51e3-41fd-4356-b5e9-335e060f3103
DTSTART;VALUE=DATE:20260514
DESCRIPTION:Property ID# 604725\, Time: 4:00PM
SUMMARY:Auction for 34 Muritai Road
END:VEVENT
END:VCALENDAR
