BEGIN:VCALENDAR
VERSION:2.0
PRODID:icalendar-ruby
CALSCALE:GREGORIAN
BEGIN:VEVENT
DTSTAMP:20260424T023247Z
UID:7823aa64-953f-43f2-810c-a21c86484df6
DTSTART;VALUE=DATE:20260305
DESCRIPTION:Property ID# 603254\, Time: 12:00PM
SUMMARY:Auction for 18 Sulphur Beach Road
END:VEVENT
END:VCALENDAR
