BEGIN:VCALENDAR
VERSION:2.0
PRODID:icalendar-ruby
CALSCALE:GREGORIAN
BEGIN:VEVENT
DTSTAMP:20260424T024109Z
UID:4dc1e6aa-23a2-4558-9a79-ff9e58eed500
DTSTART;VALUE=DATE:20260305
DESCRIPTION:Property ID# 603014\, Time: 12:00PM
SUMMARY:Auction for 2/38 Corunna Road
END:VEVENT
END:VCALENDAR
