BEGIN:VCALENDAR
VERSION:2.0
PRODID:icalendar-ruby
CALSCALE:GREGORIAN
BEGIN:VEVENT
DTSTAMP:20260420T124406Z
UID:9704e08f-e8d5-4995-8e23-0c1671b838e7
DTSTART;VALUE=DATE:20260219
DESCRIPTION:Property ID# 602846\, Locatoin: 8-12 The Promenade Takapuna (Un
 less Sold Prior)\, Time: 10:00AM
SUMMARY:Auction for 
END:VEVENT
END:VCALENDAR
