BEGIN:VCALENDAR
VERSION:2.0
PRODID:icalendar-ruby
CALSCALE:GREGORIAN
BEGIN:VEVENT
DTSTAMP:20260420T175505Z
UID:7e464c29-df55-47c6-b6f1-17d33ff4ad17
DTSTART;VALUE=DATE:20250225
DESCRIPTION:Property ID# 587827\, Locatoin: 39 Victoria Road\, Devonport (U
 nless sold prior)\, Time: 2:00PM
SUMMARY:Auction for 
END:VEVENT
END:VCALENDAR
