BEGIN:VCALENDAR
VERSION:2.0
PRODID:icalendar-ruby
CALSCALE:GREGORIAN
BEGIN:VEVENT
DTSTAMP:20260419T205156Z
UID:ff54360a-5003-49a9-ae07-7dacb3cbb1da
DTSTART;VALUE=DATE:20241107
DESCRIPTION:Property ID# 582447\, Locatoin: (Unless sold prior)\, Time: 12:
 00PM
SUMMARY:Auction for 
END:VEVENT
END:VCALENDAR
