BEGIN:VCALENDAR
VERSION:2.0
PRODID:icalendar-ruby
CALSCALE:GREGORIAN
BEGIN:VEVENT
DTSTAMP:20260421T220352Z
UID:a84dc9f3-a0f2-40cb-870b-1e81e4e14711
DTSTART;VALUE=DATE:20220914
DESCRIPTION:Property ID# 542844\, Locatoin: 8-12 The Promenade\, Takapuna\,
  Time: 10:00AM
SUMMARY:Auction for 
END:VEVENT
END:VCALENDAR
