BEGIN:VCALENDAR
VERSION:2.0
PRODID:icalendar-ruby
CALSCALE:GREGORIAN
BEGIN:VEVENT
DTSTAMP:20260421T220515Z
UID:1e98f7d8-a496-4e52-9cc3-90f13bbebd10
DTSTART;VALUE=DATE:20220803
DESCRIPTION:Property ID# 540305\, Locatoin: 8-12 The Promenade\, Takapuna\,
  Time: 10:00AM
SUMMARY:Auction for 
END:VEVENT
END:VCALENDAR
