BEGIN:VCALENDAR
VERSION:2.0
PRODID:icalendar-ruby
CALSCALE:GREGORIAN
BEGIN:VEVENT
DTSTAMP:20260420T180216Z
UID:79b0576d-44a3-4fa2-b1dc-571c76a32c74
DTSTART;VALUE=DATE:20211021
DESCRIPTION:Property ID# 519762\, Locatoin: Live Streaming\, Time: 1:00PM
SUMMARY:Auction for 
END:VEVENT
END:VCALENDAR
