BEGIN:VCALENDAR
VERSION:2.0
PRODID:icalendar-ruby
CALSCALE:GREGORIAN
BEGIN:VEVENT
DTSTAMP:20260421T034821Z
UID:a47f932d-0a0a-49dc-87fc-7260c111285a
DTSTART;VALUE=DATE:20211031
DESCRIPTION:Property ID# 518952\, Locatoin: Unless sold prior\, Time: 4:00P
 M
SUMMARY:Auction for 
END:VEVENT
END:VCALENDAR
