BEGIN:VCALENDAR
VERSION:2.0
PRODID:icalendar-ruby
CALSCALE:GREGORIAN
BEGIN:VEVENT
DTSTAMP:20260421T140449Z
UID:45e55eea-fd94-45c1-95e3-a32b4f6ff1df
DTSTART;VALUE=DATE:20210413
DESCRIPTION:Property ID# 504408\, Time: 5:00PM
SUMMARY:Auction for 
END:VEVENT
END:VCALENDAR
