BEGIN:VCALENDAR
VERSION:2.0
PRODID:icalendar-ruby
CALSCALE:GREGORIAN
BEGIN:VEVENT
DTSTAMP:20260421T134756Z
UID:7cf05827-a299-4041-a609-c2dc8dca4b28
DTSTART;VALUE=DATE:20210310
DESCRIPTION:Property ID# 500294\, Time: 5:00PM
SUMMARY:Auction for 
END:VEVENT
END:VCALENDAR
