BEGIN:VCALENDAR
VERSION:2.0
PRODID:icalendar-ruby
CALSCALE:GREGORIAN
BEGIN:VEVENT
DTSTAMP:20260421T235136Z
UID:f6f664cb-d4d7-4006-8123-b141ec040124
DTSTART;VALUE=DATE:20201115
DESCRIPTION:Property ID# 492655\, Locatoin: On Site\, Time: 2:00PM
SUMMARY:Auction for 
END:VEVENT
END:VCALENDAR
