BEGIN:VCALENDAR
VERSION:2.0
PRODID:icalendar-ruby
CALSCALE:GREGORIAN
BEGIN:VEVENT
DTSTAMP:20260423T152721Z
UID:1ef0d37a-1650-4fe0-9769-9bbf9277f011
DTSTART;VALUE=DATE:20201013
DESCRIPTION:Property ID# 489785\, Locatoin: 111 Hurstmere Road\, Takapuna\,
  Time: 12:00PM
SUMMARY:Auction for 
END:VEVENT
END:VCALENDAR
