BEGIN:VCALENDAR
VERSION:2.0
PRODID:icalendar-ruby
CALSCALE:GREGORIAN
BEGIN:VEVENT
DTSTAMP:20210119T154103Z
UID:88e60927-5e5c-48ea-a674-2d1eee8d3366
DTSTART;TZID=Pacific/Auckland:20210120T123000
DTEND;TZID=Pacific/Auckland:20210120T130000
DESCRIPTION:Property ID# 499652
SUMMARY:Openhome for 
END:VEVENT
END:VCALENDAR
