BEGIN:VCALENDAR
VERSION:2.0
PRODID:icalendar-ruby
CALSCALE:GREGORIAN
BEGIN:VEVENT
DTSTAMP:20210119T154105Z
UID:02bb09df-2fcf-4bdb-9ef6-f5f3895bbb38
DTSTART;VALUE=DATE:20210120
DESCRIPTION:Property ID# 499652\, Locatoin: On site\, Time: 1:00PM
SUMMARY:Auction for 
END:VEVENT
END:VCALENDAR
