BEGIN:VCALENDAR
VERSION:2.0
PRODID:icalendar-ruby
CALSCALE:GREGORIAN
BEGIN:VEVENT
DTSTAMP:20210119T154659Z
UID:e958f668-b720-4600-bb8b-21cc91e0181e
DTSTART;VALUE=DATE:20201210
DESCRIPTION:Property ID# 496707\, Locatoin: In rooms\, Time: 5:00PM
SUMMARY:Auction for 382 East Coast Rd
END:VEVENT
END:VCALENDAR
