BEGIN:VCALENDAR
VERSION:2.0
PRODID:icalendar-ruby
CALSCALE:GREGORIAN
BEGIN:VEVENT
DTSTAMP:20210119T154148Z
UID:5eec282d-e955-440c-b4b3-6c783b63d5eb
DTSTART;VALUE=DATE:20201210
DESCRIPTION:Property ID# 496239\, Locatoin: Bruce Mason Centre\, Takapuna\,
  Time: 10:00AM
SUMMARY:Auction for 
END:VEVENT
END:VCALENDAR
