BEGIN:VCALENDAR
VERSION:2.0
PRODID:icalendar-ruby
CALSCALE:GREGORIAN
BEGIN:VEVENT
DTSTAMP:20210119T154107Z
UID:ea96998d-6a9a-4c8d-8926-84618f23eef3
DTSTART;VALUE=DATE:20201213
DESCRIPTION:Property ID# 496094\, Locatoin: On Site\, Time: 2:00PM
SUMMARY:Auction for 
END:VEVENT
END:VCALENDAR
