BEGIN:VCALENDAR
VERSION:2.0
PRODID:icalendar-ruby
CALSCALE:GREGORIAN
BEGIN:VEVENT
DTSTAMP:20210119T154106Z
UID:d8c2cc87-c0fb-4f88-a955-7c16f4c5da03
DTSTART;VALUE=DATE:20201209
DESCRIPTION:Property ID# 496093\, Time: 1:30PM
SUMMARY:Auction for 
END:VEVENT
END:VCALENDAR
