BEGIN:VCALENDAR
VERSION:2.0
PRODID:icalendar-ruby
CALSCALE:GREGORIAN
BEGIN:VEVENT
DTSTAMP:20210119T155122Z
UID:d1a6851c-19aa-4ccc-868a-2c8a7dbc7f62
DTSTART;VALUE=DATE:20201203
DESCRIPTION:Property ID# 496030\, Locatoin: Devonport Premium Office. 4/18 
 Clarence Street\, Devonport \, Time: 12:30PM
SUMMARY:Auction for 
END:VEVENT
END:VCALENDAR
