BEGIN:VCALENDAR
VERSION:2.0
PRODID:icalendar-ruby
CALSCALE:GREGORIAN
BEGIN:VEVENT
DTSTAMP:20210119T154109Z
UID:6c133ec4-0ae9-4ad0-8b02-84c5643ce275
DTSTART;VALUE=DATE:20201125
DESCRIPTION:Property ID# 495690\, Locatoin: 128 Hurstmere Road\, Takapuna  
 In Rooms\, Time: 4:30PM
SUMMARY:Auction for 
END:VEVENT
END:VCALENDAR
