BEGIN:VCALENDAR
VERSION:2.0
PRODID:icalendar-ruby
CALSCALE:GREGORIAN
BEGIN:VEVENT
DTSTAMP:20210119T154110Z
UID:7f4debab-d966-4c9f-8cf7-cf45fc09582e
DTSTART;VALUE=DATE:20201129
DESCRIPTION:Property ID# 494954\, Locatoin: On Site\, Time: 3:00PM
SUMMARY:Auction for 
END:VEVENT
END:VCALENDAR
