BEGIN:VCALENDAR
VERSION:2.0
PRODID:icalendar-ruby
CALSCALE:GREGORIAN
BEGIN:VEVENT
DTSTAMP:20210119T154134Z
UID:0c923d17-3d4c-430a-bcf6-c68233ed441c
DTSTART;VALUE=DATE:20201124
DESCRIPTION:Property ID# 494608\, Locatoin: 111 Hurstmere Road\, Takapuna\,
  Time: 4:00PM
SUMMARY:Auction for 
END:VEVENT
END:VCALENDAR
