BEGIN:VCALENDAR
VERSION:2.0
PRODID:icalendar-ruby
CALSCALE:GREGORIAN
BEGIN:VEVENT
DTSTAMP:20210119T154200Z
UID:a18642a2-7c8a-4f5b-8889-48d87f84bc66
DTSTART;VALUE=DATE:20201029
DESCRIPTION:Property ID# 492038\, Locatoin: Bruce Mason Centre\, Takapuna\,
  Time: 10:00AM
SUMMARY:Auction for 
END:VEVENT
END:VCALENDAR
