BEGIN:VCALENDAR
VERSION:2.0
PRODID:icalendar-ruby
CALSCALE:GREGORIAN
BEGIN:VEVENT
DTSTAMP:20210119T154150Z
UID:71f729d3-38da-4e6e-a9e1-c24d151a5e35
DTSTART;VALUE=DATE:20201022
DESCRIPTION:Property ID# 491058\, Locatoin: Bruce Mason Centre\, Takapuna\,
  Time: 10:00AM
SUMMARY:Auction for 
END:VEVENT
END:VCALENDAR
