BEGIN:VCALENDAR
VERSION:2.0
PRODID:icalendar-ruby
CALSCALE:GREGORIAN
BEGIN:VEVENT
DTSTAMP:20210119T154210Z
UID:9d587e58-40ba-493d-9903-a4a1245b4856
DTSTART;VALUE=DATE:20200923
DESCRIPTION:Property ID# 487501\, Time: 12:00PM
SUMMARY:Auction for 
END:VEVENT
END:VCALENDAR
