BEGIN:VCALENDAR
VERSION:2.0
PRODID:icalendar-ruby
CALSCALE:GREGORIAN
BEGIN:VEVENT
DTSTAMP:20210119T154113Z
UID:88e6f416-e168-4e6e-9d2d-646484aaa39a
DTSTART;VALUE=DATE:20200920
DESCRIPTION:Property ID# 486974\, Locatoin: On site\, Time: 3:00PM
SUMMARY:Auction for 
END:VEVENT
END:VCALENDAR
