BEGIN:VCALENDAR
VERSION:2.0
PRODID:icalendar-ruby
CALSCALE:GREGORIAN
BEGIN:VEVENT
DTSTAMP:20210119T155128Z
UID:e2b11ee8-d775-4b2c-981f-7644436b766c
DTSTART;VALUE=DATE:20200819
DESCRIPTION:Property ID# 486113\, Locatoin: Unless sold prior\, Time: 4:00P
 M
SUMMARY:Auction for 
END:VEVENT
END:VCALENDAR
