BEGIN:VCALENDAR
VERSION:2.0
PRODID:icalendar-ruby
CALSCALE:GREGORIAN
BEGIN:VEVENT
DTSTAMP:20210119T154116Z
UID:8b3330ad-6aaa-4d4e-9c55-837ad093f257
DTSTART;VALUE=DATE:20200611
DESCRIPTION:Property ID# 480462\, Locatoin: In Rooms\, 128 Hurstmere Road\,
  Takapuna\, Time: 6:30PM
SUMMARY:Auction for 
END:VEVENT
END:VCALENDAR
