BEGIN:VCALENDAR
VERSION:2.0
PRODID:icalendar-ruby
CALSCALE:GREGORIAN
BEGIN:VEVENT
DTSTAMP:20210119T154119Z
UID:7f9142a0-31fc-40d5-860c-e953e07f82ae
DTSTART;VALUE=DATE:20200322
DESCRIPTION:Property ID# 475607\, Locatoin: On Site\, Time: 1:00PM
SUMMARY:Auction for 
END:VEVENT
END:VCALENDAR
