BEGIN:VCALENDAR
VERSION:2.0
PRODID:icalendar-ruby
CALSCALE:GREGORIAN
BEGIN:VEVENT
DTSTAMP:20210119T154135Z
UID:8edab864-ee4f-4890-8ccf-80d8fe6a8d7f
DTSTART;VALUE=DATE:20200515
DESCRIPTION:Property ID# 475055\, Time: 4:00PM
SUMMARY:Auction for 
END:VEVENT
END:VCALENDAR
