BEGIN:VCALENDAR
VERSION:2.0
PRODID:icalendar-ruby
CALSCALE:GREGORIAN
BEGIN:VEVENT
DTSTAMP:20210119T154118Z
UID:7277e064-82fc-406b-8363-2814952664df
DTSTART;VALUE=DATE:20200402
DESCRIPTION:Property ID# 475020\, Locatoin: On Site \, Time: 1:00PM
SUMMARY:Auction for 
END:VEVENT
END:VCALENDAR
