BEGIN:VCALENDAR
VERSION:2.0
PRODID:icalendar-ruby
CALSCALE:GREGORIAN
BEGIN:VEVENT
DTSTAMP:20210119T154203Z
UID:866e7dd1-a654-4a48-a0c4-2b5921146ed1
DTSTART;VALUE=DATE:20200308
DESCRIPTION:Property ID# 473464\, Time: 3:00PM
SUMMARY:Auction for 
END:VEVENT
END:VCALENDAR
