BEGIN:VCALENDAR
VERSION:2.0
PRODID:icalendar-ruby
CALSCALE:GREGORIAN
BEGIN:VEVENT
DTSTAMP:20210119T154124Z
UID:c06d0e36-93e3-4dad-a706-be306ed16684
DTSTART;VALUE=DATE:20200216
DESCRIPTION:Property ID# 471002\, Locatoin: On Site\, Time: 10:00AM
SUMMARY:Auction for 
END:VEVENT
END:VCALENDAR
