BEGIN:VCALENDAR
VERSION:2.0
PRODID:icalendar-ruby
CALSCALE:GREGORIAN
BEGIN:VEVENT
DTSTAMP:20210119T154127Z
UID:6c7bf602-3054-4d0e-b526-792f58661886
DTSTART;VALUE=DATE:20191201
DESCRIPTION:Property ID# 466917\, Locatoin: On Site\, Time: 10:00AM
SUMMARY:Auction for 
END:VEVENT
END:VCALENDAR
