BEGIN:VCALENDAR
VERSION:2.0
PRODID:icalendar-ruby
CALSCALE:GREGORIAN
BEGIN:VEVENT
DTSTAMP:20210119T154710Z
UID:b02fdc88-bda0-49b6-9f79-718cd52526fc
DTSTART;VALUE=DATE:20191210
DESCRIPTION:Property ID# 465819\, Locatoin: 111 Hurstmere Road\, Takapuna\,
  Time: 5:00PM
SUMMARY:Auction for 
END:VEVENT
END:VCALENDAR
