BEGIN:VCALENDAR
VERSION:2.0
PRODID:icalendar-ruby
CALSCALE:GREGORIAN
BEGIN:VEVENT
DTSTAMP:20210119T154129Z
UID:2a18db3d-4373-4f5e-985b-d27a2a6ca976
DTSTART;VALUE=DATE:20191103
DESCRIPTION:Property ID# 463959\, Locatoin: On Site\, Time: 11:00AM
SUMMARY:Auction for 
END:VEVENT
END:VCALENDAR
