BEGIN:VCALENDAR
VERSION:2.0
PRODID:icalendar-ruby
CALSCALE:GREGORIAN
BEGIN:VEVENT
DTSTAMP:20210119T154212Z
UID:557dd367-7638-4aae-a61b-e9849aaef9ba
DTSTART;VALUE=DATE:20191107
DESCRIPTION:Property ID# 462752\, Time: 12:00PM
SUMMARY:Auction for 
END:VEVENT
END:VCALENDAR
