BEGIN:VCALENDAR
VERSION:2.0
PRODID:icalendar-ruby
CALSCALE:GREGORIAN
BEGIN:VEVENT
DTSTAMP:20210119T154132Z
UID:703c2183-429a-40f7-8214-be5003d65329
DTSTART;VALUE=DATE:20190901
DESCRIPTION:Property ID# 459405\, Locatoin: On Site\, Time: 2:00PM
SUMMARY:Auction for 
END:VEVENT
END:VCALENDAR
